BEGIN:VCALENDAR
VERSION:2.0
PRODID:http://www.buergerzentrum-luetzel.de
BEGIN:VEVENT
UID:9ed187dd-1233-11f1-8342-0242ac11002b-1777291200000-de
DTSTAMP:20260225T102034Z
DTSTART:20260427T120000Z
DTEND:20260427T160000Z
SUMMARY;LANGUAGE=de:Denkparcours. Gemeinsam aktiv für die geistige Fitness! 
DESCRIPTION;LANGUAGE=de:Freuen Sie sich auf einen Nachmittag voller spannender Rätsel und kniffliger Herausforderungen für alle Generationen. Über 30 interaktive Stationen laden ein\, Konzentration und Wahrnehmung spielerisch zu schärften - ob selbständig oder mit Anleitung. Ein inspirierender Mitmachvortrag zu Beginn der Veranstaltung bietet spannende Einblicke in die Welt des Gedächtnisses. Wer geistig fit bleiben möchte sollte aktiv werden. Machen Sie mit!\nKeine Anmeldung erforderlich.\nEine Aktion in Kooperation mit der Lokalen Allianz für Menschen mit Demenz.\nWeitere Informationen bei der Kath. Familienbildungsstätte Koblenz. Tel. 0261-35 679. www.fbs-koblenz.de
IMAGE;VALUE=URI;DISPLAY=BADGE;FMTTYPE=image/jpeg:http://www.buergerzentrum-luetzel.de/export/sites/bzl/.galleries/bilder/Logo_Lokale_Allianzen.jpg
END:VEVENT
END:VCALENDAR
